BEGIN:VCALENDAR
VERSION:2.0
PRODID:-//eventon.com NONSGML v1.0//EN
CALSCALE:GREGORIAN
METHOD:PUBLISH
BEGIN:VEVENT
UID:69e97c35e8d25
DTSTAMP:20260423T015605Z
DTSTART:20260619
DTEND:20260620
LOCATION:
SUMMARY:61. Generalversammlung
DESCRIPTION:61. Generalversammlung\nhttps://www.cczug.ch/events/61-generalv
 ersammlung/
URL:https://www.cczug.ch/events/61-generalversammlung/
END:VEVENT
END:VCALENDAR