BEGIN:VCALENDAR
VERSION:2.0
PRODID:-//eventon.com NONSGML v1.0//EN
CALSCALE:GREGORIAN
METHOD:PUBLISH
BEGIN:VEVENT
UID:69ea11c4e91a2
DTSTAMP:20260423T123412Z
DTSTART:20240823T160000Z
DTEND:20240823T215900Z
LOCATION:Chugelrüti
SUMMARY:Sommertreff
DESCRIPTION:Sommertreff\nhttps://www.cczug.ch/events/generalversammlung/
URL:https://www.cczug.ch/events/generalversammlung/
END:VEVENT
END:VCALENDAR