BEGIN:VCALENDAR
VERSION:2.0
PRODID:-//eventon.com NONSGML v1.0//EN
CALSCALE:GREGORIAN
METHOD:PUBLISH
BEGIN:VEVENT
UID:69e8982ce739d
DTSTAMP:20260422T094308Z
DTSTART:20250924T160000Z
DTEND:20250924T203000Z
LOCATION:
SUMMARY:Start Hallenmeisterschaft
DESCRIPTION:Start Hallenmeisterschaft\nhttps://www.cczug.ch/events/start-ha
 llenmeisterschaft/
URL:https://www.cczug.ch/events/start-hallenmeisterschaft/
END:VEVENT
END:VCALENDAR