BEGIN:VCALENDAR
VERSION:2.0
PRODID:-//eventon.com NONSGML v1.0//EN
CALSCALE:GREGORIAN
METHOD:PUBLISH
BEGIN:VEVENT
UID:69e5e819d5f63
DTSTAMP:20260420T084721Z
DTSTART:20251122
DTEND:20251123
LOCATION:Curling Club Zug Weststrasse 9\,  6303 Zug
SUMMARY:27. Pro-Am Turnier
DESCRIPTION:27. Pro-Am Turnier\nhttps://www.cczug.ch/events/27-pro-am-turni
 er/
URL:https://www.cczug.ch/events/27-pro-am-turnier/
END:VEVENT
END:VCALENDAR