BEGIN:VCALENDAR
VERSION:2.0
PRODID:-//eventon.com NONSGML v1.0//EN
CALSCALE:GREGORIAN
METHOD:PUBLISH
BEGIN:VEVENT
UID:69e7a6eb3e486
DTSTAMP:20260421T163347Z
DTSTART:20251108
DTEND:20251109
LOCATION:
SUMMARY:Cherry-Rockers Turnier
DESCRIPTION:Cherry-Rockers Turnier\nhttps://www.cczug.ch/events/cherry-rock
 ers-turnier/
URL:https://www.cczug.ch/events/cherry-rockers-turnier/
END:VEVENT
END:VCALENDAR