BEGIN:VCALENDAR
VERSION:2.0
PRODID:-//eventon.com NONSGML v1.0//EN
CALSCALE:GREGORIAN
METHOD:PUBLISH
BEGIN:VEVENT
UID:69ed8e8aaeff8
DTSTAMP:20260426T040322Z
DTSTART:20251127
DTEND:20251128
LOCATION:
SUMMARY:Baumgartner Trophy Veteranen
DESCRIPTION:Baumgartner Trophy Veteranen\nhttps://www.cczug.ch/events/zuger
 -veteranen-turnier/
URL:https://www.cczug.ch/events/zuger-veteranen-turnier/
END:VEVENT
END:VCALENDAR