BEGIN:VCALENDAR
VERSION:2.0
PRODID:-//eventon.com NONSGML v1.0//EN
CALSCALE:GREGORIAN
METHOD:PUBLISH
BEGIN:VEVENT
UID:69e4d46b78f39
DTSTAMP:20260419T131107Z
DTSTART:20251220
DTEND:20251221
LOCATION:
SUMMARY:Weihnachtsturnier
DESCRIPTION:Weihnachtsturnier\nhttps://www.cczug.ch/events/weihnachtsturnie
 r/var/ri-3.l-L1
URL:https://www.cczug.ch/events/weihnachtsturnier/var/ri-3.l-L1
END:VEVENT
END:VCALENDAR