BEGIN:VCALENDAR
VERSION:2.0
PRODID:-//eventon.com NONSGML v1.0//EN
CALSCALE:GREGORIAN
METHOD:PUBLISH
BEGIN:VEVENT
UID:69e90e2feac80
DTSTAMP:20260422T180639Z
DTSTART:20250125
DTEND:20250126
LOCATION:
SUMMARY:Zugerbärg Trophy
DESCRIPTION:Zugerbärg Trophy\nhttps://www.cczug.ch/events/zugerbaerg-troph
 y/
URL:https://www.cczug.ch/events/zugerbaerg-trophy/
END:VEVENT
END:VCALENDAR