BEGIN:VCALENDAR
VERSION:2.0
PRODID:-//eventon.com NONSGML v1.0//EN
CALSCALE:GREGORIAN
METHOD:PUBLISH
BEGIN:VEVENT
UID:69ed7ee838f56
DTSTAMP:20260426T025640Z
DTSTART:20260207
DTEND:20260208
LOCATION:Curling Halle Zug Weststrasse 9\,  6300 Zug
SUMMARY:Wädi Cup CCWZ
DESCRIPTION:Wädi Cup CCWZ\nhttps://www.cczug.ch/events/waedi-cup/var/ri-3.
 l-L1
URL:https://www.cczug.ch/events/waedi-cup/var/ri-3.l-L1
END:VEVENT
END:VCALENDAR