BEGIN:VCALENDAR
VERSION:2.0
PRODID:-//eventon.com NONSGML v1.0//EN
CALSCALE:GREGORIAN
METHOD:PUBLISH
BEGIN:VEVENT
UID:69e96cf02d299
DTSTAMP:20260423T005056Z
DTSTART:20260129
DTEND:20260130
LOCATION:
SUMMARY:Bossard Veteranen Trophy
DESCRIPTION:Bossard Veteranen Trophy\nhttps://www.cczug.ch/events/bossard-t
 rophy/var/ri-1.l-L1
URL:https://www.cczug.ch/events/bossard-trophy/var/ri-1.l-L1
END:VEVENT
END:VCALENDAR