BEGIN:VCALENDAR
VERSION:2.0
PRODID:-//eventon.com NONSGML v1.0//EN
CALSCALE:GREGORIAN
METHOD:PUBLISH
BEGIN:VEVENT
UID:69e7cf3062ad4
DTSTAMP:20260421T192536Z
DTSTART:20260213
DTEND:20260214
LOCATION:
SUMMARY:Mixed Doubles - Zweier Trophy
DESCRIPTION:Mixed Doubles - Zweier Trophy\nhttps://www.cczug.ch/events/mixe
 d-doubles-challenge/
URL:https://www.cczug.ch/events/mixed-doubles-challenge/
END:VEVENT
END:VCALENDAR