BEGIN:VCALENDAR
VERSION:2.0
PRODID:-//eventon.com NONSGML v1.0//EN
CALSCALE:GREGORIAN
METHOD:PUBLISH
BEGIN:VEVENT
UID:69e8483172fe4
DTSTAMP:20260422T040153Z
DTSTART:20251023T070000Z
DTEND:20251023T143000Z
LOCATION:Curling Halle Zug Weststrasse 9\,  6300 Zug
SUMMARY:CVM Z - 1. Spieltag in Zug
DESCRIPTION:1. Spieltag der Curling Veteranten Meisterschaft Zentralschweiz
 . Aktuelle Resultate und Ranglisten sowie der Spielplan befinden sich auf C
 urlingpanel.\nhttps://www.cczug.ch/events/cvm-z-1-spieltag/
URL:https://www.cczug.ch/events/cvm-z-1-spieltag/
END:VEVENT
END:VCALENDAR