BEGIN:VCALENDAR
VERSION:2.0
PRODID:-//eventon.com NONSGML v1.0//EN
CALSCALE:GREGORIAN
METHOD:PUBLISH
BEGIN:VEVENT
UID:69e848c337147
DTSTAMP:20260422T040419Z
DTSTART:20250620
DTEND:20250621
LOCATION:
SUMMARY:60. Generalversammlung
DESCRIPTION:60. Generalversammlung\nhttps://www.cczug.ch/events/57-generalv
 ersammlung/
URL:https://www.cczug.ch/events/57-generalversammlung/
END:VEVENT
END:VCALENDAR